BEGIN:VCALENDAR
VERSION:2.0
PRODID:-//Grätzelmixer - ECPv6.15.20//NONSGML v1.0//EN
CALSCALE:GREGORIAN
METHOD:PUBLISH
X-WR-CALNAME:Grätzelmixer
X-ORIGINAL-URL:https://www.graetzelmixer.at
X-WR-CALDESC:Veranstaltungen für Grätzelmixer
REFRESH-INTERVAL;VALUE=DURATION:PT1H
X-Robots-Tag:noindex
X-PUBLISHED-TTL:PT1H
BEGIN:VTIMEZONE
TZID:Europe/Vienna
BEGIN:DAYLIGHT
TZOFFSETFROM:+0100
TZOFFSETTO:+0200
TZNAME:CEST
DTSTART:20230326T010000
END:DAYLIGHT
BEGIN:STANDARD
TZOFFSETFROM:+0200
TZOFFSETTO:+0100
TZNAME:CET
DTSTART:20231029T010000
END:STANDARD
BEGIN:DAYLIGHT
TZOFFSETFROM:+0100
TZOFFSETTO:+0200
TZNAME:CEST
DTSTART:20240331T010000
END:DAYLIGHT
BEGIN:STANDARD
TZOFFSETFROM:+0200
TZOFFSETTO:+0100
TZNAME:CET
DTSTART:20241027T010000
END:STANDARD
BEGIN:DAYLIGHT
TZOFFSETFROM:+0100
TZOFFSETTO:+0200
TZNAME:CEST
DTSTART:20250330T010000
END:DAYLIGHT
BEGIN:STANDARD
TZOFFSETFROM:+0200
TZOFFSETTO:+0100
TZNAME:CET
DTSTART:20251026T010000
END:STANDARD
END:VTIMEZONE
BEGIN:VEVENT
DTSTART;TZID=Europe/Vienna:20240603T213000
DTEND;TZID=Europe/Vienna:20240603T230000
DTSTAMP:20260424T025007
CREATED:20240412T132746Z
LAST-MODIFIED:20240520T194126Z
UID:2011-1717450200-1717455600@www.graetzelmixer.at
SUMMARY:Robert Menasse: "Die Welt von Morgen" [Grätzel:Literatur]
DESCRIPTION:Robert Menasse liest aus seinem neuen Buch: \nDie Welt von Morgen. Ein souveränes und demokratisches Europa – und seine Feinde (Suhrkamp 2024).\nFoto: Rafaela Pröll\, Suhrkamp\n \nRobert Menasse hat nach „Die Hauptstadt“ und „Die Erweiterung“ ein neues Europa-Buch vorgelegt: Die Welt von Morgen. Ein souveränes und demokratisches Europa – und seine Feinde (Suhrkamp 2024). \nEin paar Tage vor der Wahl zum Europäischen Parlament liest Menasse daraus bei uns im Grätzelmixer und diskutiert Herausforderungen und Chancen. \nRobert Menasse ist 1954 in Wien geboren und ist auch dort aufgewachsen. Er studierte Germanistik\, Philosophie sowie Politikwissenschaft in Wien\, Salzburg und Messina und lehrte 6 Jahre lang an der Universität Sao Paolo. Seit seiner Rückkehr aus Brasilien 1988 lebt Robert Menasse als Literat und kulturkritischer Essayist hauptsächlich in Wien. Für deinen Roman Die Erweiterung wurde er  mit dem Bruno-Kreisky-Preis für das Politische Buch (2022) und dem Europäischen Buchpreis (2023) ausgezeichnet.
URL:https://www.graetzelmixer.at/event/robert-menasse-die-welt-von-morgen-graetzelliteratur/
LOCATION:Grätzelmixer\, Bloch-Bauer-Promenade 28\, Wien\, 1100\, Austria
CATEGORIES:Grätzel:Literatur
ORGANIZER;CN="Gr%C3%A4tzelmixer Verein":MAILTO:info@graetzelmixer.at
END:VEVENT
BEGIN:VEVENT
DTSTART;TZID=Europe/Vienna:20240621T213000
DTEND;TZID=Europe/Vienna:20240621T230000
DTSTAMP:20260424T025007
CREATED:20240518T111412Z
LAST-MODIFIED:20240523T091549Z
UID:2069-1719005400-1719010800@www.graetzelmixer.at
SUMMARY:Menata Nije: In der Drehtürfalle [Grätzel:Literatur]
DESCRIPTION:Lesung und Publikumsgespräch mit der Autorin Menata Nije\n \n\n„In der Drehtürfalle“\nDie in Gambia geborene Autorin und Aktivistin Menata Njie schildert ihre Erfahrungen im Kampf gegen die Unterdrückung von Frauen. Ihre Erzählung ist authentisch\, erschütternd und mutig. \nMenata Nije\nDie ehemalige Parlamentarierin Menata Njie hat durch ihre politische Tätigkeit und Mitarbeit in internationalen Organisationen\, die sich dem Kampf gegen die weibliche Genitalverstümmelung verschrieben haben\, weitreichende Gesetzesänderungen im Bereich von Frauenrechten durchgesetzt. \nSie ist nach einem politischen Umsturz in Gambia\, der sich während eines internationalen Kongresses in Wien ereignet hat\, in Österreich geblieben\, um Verfolgung und möglichem Gefängnis zu entgehen. \nEinführende Worte von  Alfred Woschitz (Kärntner Schriftsteller:innen Verband)
URL:https://www.graetzelmixer.at/event/menata-nije-in-der-drehtuerfalle-graetzelliteratur/
LOCATION:Grätzelmixer\, Bloch-Bauer-Promenade 28\, Wien\, 1100\, Austria
CATEGORIES:Grätzel:Literatur
ORGANIZER;CN="Gr%C3%A4tzelmixer Verein":MAILTO:info@graetzelmixer.at
END:VEVENT
END:VCALENDAR