BEGIN:VCALENDAR
VERSION:2.0
PRODID:-//Grätzelmixer - ECPv6.15.20//NONSGML v1.0//EN
CALSCALE:GREGORIAN
METHOD:PUBLISH
X-WR-CALNAME:Grätzelmixer
X-ORIGINAL-URL:https://www.graetzelmixer.at
X-WR-CALDESC:Veranstaltungen für Grätzelmixer
REFRESH-INTERVAL;VALUE=DURATION:PT1H
X-Robots-Tag:noindex
X-PUBLISHED-TTL:PT1H
BEGIN:VTIMEZONE
TZID:Europe/Vienna
BEGIN:DAYLIGHT
TZOFFSETFROM:+0100
TZOFFSETTO:+0200
TZNAME:CEST
DTSTART:20210328T010000
END:DAYLIGHT
BEGIN:STANDARD
TZOFFSETFROM:+0200
TZOFFSETTO:+0100
TZNAME:CET
DTSTART:20211031T010000
END:STANDARD
BEGIN:DAYLIGHT
TZOFFSETFROM:+0100
TZOFFSETTO:+0200
TZNAME:CEST
DTSTART:20220327T010000
END:DAYLIGHT
BEGIN:STANDARD
TZOFFSETFROM:+0200
TZOFFSETTO:+0100
TZNAME:CET
DTSTART:20221030T010000
END:STANDARD
BEGIN:DAYLIGHT
TZOFFSETFROM:+0100
TZOFFSETTO:+0200
TZNAME:CEST
DTSTART:20230326T010000
END:DAYLIGHT
BEGIN:STANDARD
TZOFFSETFROM:+0200
TZOFFSETTO:+0100
TZNAME:CET
DTSTART:20231029T010000
END:STANDARD
END:VTIMEZONE
BEGIN:VEVENT
DTSTART;TZID=Europe/Vienna:20220902T210000
DTEND;TZID=Europe/Vienna:20220902T223000
DTSTAMP:20260425T153822
CREATED:20220806T075501Z
LAST-MODIFIED:20220806T075501Z
UID:1135-1662152400-1662157800@www.graetzelmixer.at
SUMMARY:Schubert\, Tango\, Joseph Roth | Vom Fortgehen und Zurückkommen [Grätzel:Literatur:Musik]
DESCRIPTION:Sylwia Solak | sylwiasolak.pl\nFranz Tunda\, Joseph Roths Hauptfigur in Flucht ohne Ende\, gerät gegen Ende des ersten Weltkriegs in der Ukraine in Gefangenschaft. Der Weg zurück ist voll von Abenteuern und überraschender Wendungen. Joseph Roth ist ein aufmerksamer Beobachter\, der die Stimmung der letzten Jahre der Monarchie sowie jene der Nachkriegsjahre intensiv nachempfinden lässt. Es bahnt sich Veränderung an\, man riecht es in der Luft. Grenzen verschwimmen\, wo ist Heimat\, wo fühlt man sich zuhause? \nUmrahmt werden die ausgewählten Textstellen mit Liedern von Franz Schubert\, Maurice Ravel und Roger Quilter sowie Tangos von Astor Piazzolla\, Aníbal Troilo & Enrique Francini. Über die Sehnsucht\, die uns forttreibt und auch wieder zurückführt. \nHelmut Höllriegl\, Gesang & Rezitation\nMilos Avramovic\, Akkordeon \n 
URL:https://www.graetzelmixer.at/event/schubert-tango-joseph-roth-vom-fortgehen-und-zurueckkommen-graetzelliteraturmusik/
LOCATION:Grätzelmixer\, Bloch-Bauer-Promenade 28\, Wien\, 1100\, Austria
CATEGORIES:Grätzel:Literatur,Grätzel:Musik
END:VEVENT
END:VCALENDAR