BEGIN:VCALENDAR
VERSION:2.0
PRODID:-//Grätzelmixer - ECPv6.15.20//NONSGML v1.0//EN
CALSCALE:GREGORIAN
METHOD:PUBLISH
X-ORIGINAL-URL:https://www.graetzelmixer.at
X-WR-CALDESC:Veranstaltungen für Grätzelmixer
REFRESH-INTERVAL;VALUE=DURATION:PT1H
X-Robots-Tag:noindex
X-PUBLISHED-TTL:PT1H
BEGIN:VTIMEZONE
TZID:Europe/Vienna
BEGIN:DAYLIGHT
TZOFFSETFROM:+0100
TZOFFSETTO:+0200
TZNAME:CEST
DTSTART:20240331T010000
END:DAYLIGHT
BEGIN:STANDARD
TZOFFSETFROM:+0200
TZOFFSETTO:+0100
TZNAME:CET
DTSTART:20241027T010000
END:STANDARD
BEGIN:DAYLIGHT
TZOFFSETFROM:+0100
TZOFFSETTO:+0200
TZNAME:CEST
DTSTART:20250330T010000
END:DAYLIGHT
BEGIN:STANDARD
TZOFFSETFROM:+0200
TZOFFSETTO:+0100
TZNAME:CET
DTSTART:20251026T010000
END:STANDARD
BEGIN:DAYLIGHT
TZOFFSETFROM:+0100
TZOFFSETTO:+0200
TZNAME:CEST
DTSTART:20260329T010000
END:DAYLIGHT
BEGIN:STANDARD
TZOFFSETFROM:+0200
TZOFFSETTO:+0100
TZNAME:CET
DTSTART:20261025T010000
END:STANDARD
END:VTIMEZONE
BEGIN:VEVENT
DTSTART;TZID=Europe/Vienna:20250425T213000
DTEND;TZID=Europe/Vienna:20250425T233000
DTSTAMP:20260423T193002
CREATED:20250317T113909Z
LAST-MODIFIED:20250317T113909Z
UID:2476-1745616600-1745623800@www.graetzelmixer.at
SUMMARY:Exploring Architecture I [Grätzel:Kino]
DESCRIPTION:BEYOND ETERNITY – Architecture Facing the Impermanence (2024\, 60 min.\, Mies TV\, Englisch mit deutschen Untertiteln)\nFilmscreening und Publikumsgespräch mit Regisseur Arian Lehner \n \nBEYOND ETERNITY is an exploration of the global effects of modernity in architecture\, and its struggle with current issues such as climate change\, social disputes\, resource scarcity\, financial speculations and refugees. \nTrailer Link: https://youtu.be/gE5D9qUM4I0?si=XxOGrsPtG491UK2k \nArian Lehner (film director) \nis an architecture film maker and founder of Mies. Magazin (Austrian architecture TV-show) and Mies. TV (international architecture video platform). Next to working as a journalist for Austrian newspaper DER STANDARD\, and Austria’s biggest architecture magazine architektur.aktuell\, he studied architecture at the Technical University in Vienna\, University of Manchester and the University of Applied Arts (Studio Kazuyo Sejima – SANAA). Working for international architecture practices such as MVRDV (Rotterdam\, Netherlands) and OMA/Rem Koolhaas (Hong Kong/SAR). His film-works have been produced and shown in Europe\, Asia\, Africa and North America.
URL:https://www.graetzelmixer.at/event/exploring-architecture-i-graetzelkino/
LOCATION:Grätzelmixer\, Bloch-Bauer-Promenade 28\, Wien\, 1100\, Austria
CATEGORIES:Grätzel:Kino
ORGANIZER;CN="Gr%C3%A4tzelmixer Verein":MAILTO:info@graetzelmixer.at
END:VEVENT
BEGIN:VEVENT
DTSTART;TZID=Europe/Vienna:20250426T213000
DTEND;TZID=Europe/Vienna:20250426T233000
DTSTAMP:20260423T193002
CREATED:20250317T114354Z
LAST-MODIFIED:20250327T104143Z
UID:2486-1745703000-1745710200@www.graetzelmixer.at
SUMMARY:Exploring Architecture II [Grätzel:Kino]
DESCRIPTION:Filmscreening und Publikumsgespräch mit Regisseur Karl-Heinz Klopf\nSTUDIO (2000\, 8 min.\, Computer Animation)\n„The own studio appears as a spatial skeleton\, as a fragile passage living up with clips of received e-mail messages about locating one self and conditions in cities.“ (Karl-Heinz Klopf / Sigrid Kurz) \n \nBY WAY OF DISPLAY (2003\, 37 min.)\nBy analyzing the architectural\, sociological and cultural components\, BY WAY OF DISPLAY reflects on the urban tactics in Taiwan\, looking into the phenomenon of one of the most visible informal businesses: the betel nut shops. \n \nTESVIKIYE (2004\, 5 min.)\nIn his 1969 published praise of hospitable streets „Streets for People „\, Bernhard Rudofsky stated that climbing stairs had become an atavistic activity for modern industrialized men. In his polemic he stresses the advantage and the poetry of the stairs of the hilly city of Rome. \n \nTHEY (2010\, 35 min.)\n(Best Short Documentary Diagonale 11) \nThey is a film concerning a municipal area in North Liverpool\, which has suffered an extreme drop in population. The area is one of the lowest socio-economic areas in England\, which used to be an active\, highly populated community but has mostly been demolished and replaced by an unused hilly park which extends over much of the district. \nAbout KARL-HEINZ KLOPF\nKarl-Heinz Klopf is an artist and filmmaker whose work focuses on the built environment in its various manifestations. His films\, installations\, drawings and photographs trace his movement through places\, spaces and time.
URL:https://www.graetzelmixer.at/event/exploring-architecture-ii-graetzelkino/
LOCATION:Grätzelmixer\, Bloch-Bauer-Promenade 28\, Wien\, 1100\, Austria
CATEGORIES:Grätzel:Kino
ORGANIZER;CN="Gr%C3%A4tzelmixer Verein":MAILTO:info@graetzelmixer.at
END:VEVENT
END:VCALENDAR