BEGIN:VCALENDAR
VERSION:2.0
PRODID:-//Grätzelmixer - ECPv6.15.20//NONSGML v1.0//EN
CALSCALE:GREGORIAN
METHOD:PUBLISH
X-WR-CALNAME:Grätzelmixer
X-ORIGINAL-URL:https://www.graetzelmixer.at
X-WR-CALDESC:Veranstaltungen für Grätzelmixer
REFRESH-INTERVAL;VALUE=DURATION:PT1H
X-Robots-Tag:noindex
X-PUBLISHED-TTL:PT1H
BEGIN:VTIMEZONE
TZID:Europe/Vienna
BEGIN:DAYLIGHT
TZOFFSETFROM:+0100
TZOFFSETTO:+0200
TZNAME:CEST
DTSTART:20230326T010000
END:DAYLIGHT
BEGIN:STANDARD
TZOFFSETFROM:+0200
TZOFFSETTO:+0100
TZNAME:CET
DTSTART:20231029T010000
END:STANDARD
BEGIN:DAYLIGHT
TZOFFSETFROM:+0100
TZOFFSETTO:+0200
TZNAME:CEST
DTSTART:20240331T010000
END:DAYLIGHT
BEGIN:STANDARD
TZOFFSETFROM:+0200
TZOFFSETTO:+0100
TZNAME:CET
DTSTART:20241027T010000
END:STANDARD
BEGIN:DAYLIGHT
TZOFFSETFROM:+0100
TZOFFSETTO:+0200
TZNAME:CEST
DTSTART:20250330T010000
END:DAYLIGHT
BEGIN:STANDARD
TZOFFSETFROM:+0200
TZOFFSETTO:+0100
TZNAME:CET
DTSTART:20251026T010000
END:STANDARD
END:VTIMEZONE
BEGIN:VEVENT
DTSTART;TZID=Europe/Vienna:20240322T180000
DTEND;TZID=Europe/Vienna:20240322T193000
DTSTAMP:20260424T191519
CREATED:20240203T122242Z
LAST-MODIFIED:20240221T203709Z
UID:1911-1711130400-1711135800@www.graetzelmixer.at
SUMMARY:Neue Geschichten vom Franz (Ö\, 2023) [Grätzel:Kino]
DESCRIPTION:In Anwesenheit von Drehbuchautorin Sarah Wassermair und Eberhardt-Darsteller Leo Wacha\n \nSpielfilm empfohlen für Kinder ab 6 Jahren\, Österreich 2023\, 72 Min \nRegie: Johannes Schmid\, nach den Büchern von Christine Nöstlinger mit Jossi Jantschitsch\, Nora Reidinger\, Leo Wacha u.a. \nIm 2. Teil der Geschichten vom Franz wollen Franz\, Gabi und Eberhart Juwelen-Diebstähle aufklären und haben auch gleich jemanden unter Verdacht. Franz legt sich für die Sache ins Zeug und muss erkennen\, dass Vieles auf den zweiten Blick ganz anders ist\, als es scheint. Mit einer Mischung aus Humor\, Spannung und Herz geht es wieder um große wie kleine Nöte und kindliche Fantasie. Gleichzeitig ermuntert der Film dazu\, Mitmenschen mal aus einer anderen Perspektive zu betrachten. \n \nSarah Wassermair\, geboren 1988\, lernte mit sieben in der Schule das Schreiben\, aber dummerweise nicht\, wie man wieder damit aufhört. Sie lebt heute als freie Drehbuchautorin in Wien und Oberösterreich \nLeo Wacha\, 12 Jahre alt\, lebt mit seinen Eltern in Wien. Leo hat auf seinem Weg zum – hoffentlich – Profi-Fußballer einen „Abstecher“ zu Theater und Film gemacht hat. Der Eberhardt in ‚Geschichten vom Franz‘ war seine erste große Kinorolle. \n\nEintritt: Freiwillige Spenden \nIndoor-Veranstaltung mit begrenzten Plätzen – Reservierung nicht möglich. \nBitte Sitzpolster mitbringen!
URL:https://www.graetzelmixer.at/event/neue-geschichten-vom-franz-oe-2023-graetzelkino/
LOCATION:Grätzelmixer\, Bloch-Bauer-Promenade 28\, Wien\, 1100\, Austria
CATEGORIES:Grätzel:Kids,Grätzel:Kino
ORGANIZER;CN="Gr%C3%A4tzelmixer Verein":MAILTO:info@graetzelmixer.at
END:VEVENT
END:VCALENDAR