BEGIN:VCALENDAR
VERSION:2.0
PRODID:-//Grätzelmixer - ECPv6.15.20//NONSGML v1.0//EN
CALSCALE:GREGORIAN
METHOD:PUBLISH
X-ORIGINAL-URL:https://www.graetzelmixer.at
X-WR-CALDESC:Veranstaltungen für Grätzelmixer
REFRESH-INTERVAL;VALUE=DURATION:PT1H
X-Robots-Tag:noindex
X-PUBLISHED-TTL:PT1H
BEGIN:VTIMEZONE
TZID:Europe/Vienna
BEGIN:DAYLIGHT
TZOFFSETFROM:+0100
TZOFFSETTO:+0200
TZNAME:CEST
DTSTART:20230326T010000
END:DAYLIGHT
BEGIN:STANDARD
TZOFFSETFROM:+0200
TZOFFSETTO:+0100
TZNAME:CET
DTSTART:20231029T010000
END:STANDARD
BEGIN:DAYLIGHT
TZOFFSETFROM:+0100
TZOFFSETTO:+0200
TZNAME:CEST
DTSTART:20240331T010000
END:DAYLIGHT
BEGIN:STANDARD
TZOFFSETFROM:+0200
TZOFFSETTO:+0100
TZNAME:CET
DTSTART:20241027T010000
END:STANDARD
BEGIN:DAYLIGHT
TZOFFSETFROM:+0100
TZOFFSETTO:+0200
TZNAME:CEST
DTSTART:20250330T010000
END:DAYLIGHT
BEGIN:STANDARD
TZOFFSETFROM:+0200
TZOFFSETTO:+0100
TZNAME:CET
DTSTART:20251026T010000
END:STANDARD
END:VTIMEZONE
BEGIN:VEVENT
DTSTART;TZID=Europe/Vienna:20240229T200000
DTEND;TZID=Europe/Vienna:20240229T220000
DTSTAMP:20260424T205658
CREATED:20240116T165914Z
LAST-MODIFIED:20240203T121356Z
UID:1877-1709236800-1709244000@www.graetzelmixer.at
SUMMARY:WOOD - Der geraubte Wald [Grätzel:Kino]
DESCRIPTION:Filmvorführung und Diskussion mit Regisseurin Ebba Sinzinger und Wirtschaftsexpertin Ursula Bittner\, Greenpeace\nWOOD – Der geraubte Wald. Ein Dokumentarfilm von Monica Lăzurean-Gorgan\, Michaela Kirst\, Ebba Sinzinger (Ö\, D\, RO; 2020; 97 min); Originalfassung mit deutschen Untertiteln\nIllegale Holzschlägerei ist ein globales Milliardengeschäft. Alexander von Bismarck\, Nachfahre des Eisernen Kanzlers und Kopf der Environmental Investigation Agency in Washington\, spürt weltweit erfolgreich den Machenschaften der Holzmafia nach – mit gefärbten Haaren\, versteckter Kamera und Tonaufnahmegeräten. Dabei es geht ihm nicht nur um die Aufdeckung skandalöser Zustände\, sondern vor allem um eine Änderung im Bewusstsein von Politik und Zivilgesellschaft\, letztlich um einen neuen Verhaltenskodex für die Weltwirtschaft\, aber auch für Konsument*innen. Ein Umweltthriller der besonderen Art.\nLink zum Trailer: https://www.youtube.com/watch?v=NJq1Sj7kR5c \nPublikumsgespräch mit Regisseurin Ebba Sinzinger und Ursula Bittner Wirtschaftsexpertin\, Greenpeace\nEBBA SINZINGER ist eine österreichische Produzentin\, Drehbuchautorin und Regisseurin. Sie produziert und co-produziert Filme wie DAS TIER IM DSCHUNGEL oder BRÜDER DER NACHT und DOMAINE von Patric Chiha\, FORGOTTEN SPACE von Noël Burch und Allan Secula\, sowie PIANOMANIA\, die in Berlin\, Venedig und Locarno ausgezeichnet wurden. Für ihre Regiearbeiten erhielt sie den Oberösterreichischen Landeskulturpreis für Film 1997. Sie ist Mitglied von ACE und der Europäischen Filmakademie\, Gründungsmitglied von dok.at und von „dieproduzent*innen“ und ehemaliges Vorstandsmitglied von FC Gloria. \nURSULA BITTNER ist Wirtschaftsexpertin bei Greenpeace und arbeitet zu den Themen Greenwashing\, Demokratie\, Compliance und Zivilgesellschaft sowie zu Handel\, Lieferketten\, Landwirtschaft und Biodiversität. Sie hat einen Abschluss in Internationaler Entwicklung von der Universität Wien und in Internationalen Beziehungen der Diplomatischen Akademie Wien und einen Master of Business Administration (MBA) der California Lutheran University\, USA. Vor 10 Jahren gründete sie gemeinsam mit einem Kollegen einen Verein für eine nachhaltige europäische Eiweißversorgung\, Donau Soja. Im Jahr 2021 gründete sie die Initiative Saubere Hände – Stoppt Korruption zur Bekämpfung der Korruption in Österreich. Ursula Bittner setzt sich für liberale Demokratie und eine starke Zivilgesellschaft und für den Schutz unseres Planeten\, insbesondere eine nachhaltige Landwirtschaft und Ernährung ein.  \n  \n 
URL:https://www.graetzelmixer.at/event/wood-der-geraubte-wald-graetzelkino/
LOCATION:Grätzelmixer\, Bloch-Bauer-Promenade 28\, Wien\, 1100\, Austria
CATEGORIES:Grätzel:Kino
ORGANIZER;CN="Gr%C3%A4tzelmixer Verein":MAILTO:info@graetzelmixer.at
END:VEVENT
END:VCALENDAR