BEGIN:VCALENDAR
VERSION:2.0
PRODID:-//Grätzelmixer - ECPv6.15.20//NONSGML v1.0//EN
CALSCALE:GREGORIAN
METHOD:PUBLISH
X-WR-CALNAME:Grätzelmixer
X-ORIGINAL-URL:https://www.graetzelmixer.at
X-WR-CALDESC:Veranstaltungen für Grätzelmixer
REFRESH-INTERVAL;VALUE=DURATION:PT1H
X-Robots-Tag:noindex
X-PUBLISHED-TTL:PT1H
BEGIN:VTIMEZONE
TZID:Europe/Vienna
BEGIN:DAYLIGHT
TZOFFSETFROM:+0100
TZOFFSETTO:+0200
TZNAME:CEST
DTSTART:20220327T010000
END:DAYLIGHT
BEGIN:STANDARD
TZOFFSETFROM:+0200
TZOFFSETTO:+0100
TZNAME:CET
DTSTART:20221030T010000
END:STANDARD
BEGIN:DAYLIGHT
TZOFFSETFROM:+0100
TZOFFSETTO:+0200
TZNAME:CEST
DTSTART:20230326T010000
END:DAYLIGHT
BEGIN:STANDARD
TZOFFSETFROM:+0200
TZOFFSETTO:+0100
TZNAME:CET
DTSTART:20231029T010000
END:STANDARD
BEGIN:DAYLIGHT
TZOFFSETFROM:+0100
TZOFFSETTO:+0200
TZNAME:CEST
DTSTART:20240331T010000
END:DAYLIGHT
BEGIN:STANDARD
TZOFFSETFROM:+0200
TZOFFSETTO:+0100
TZNAME:CET
DTSTART:20241027T010000
END:STANDARD
END:VTIMEZONE
BEGIN:VEVENT
DTSTART;TZID=Europe/Vienna:20231020T220000
DTEND;TZID=Europe/Vienna:20231020T233000
DTSTAMP:20260425T030317
CREATED:20230829T063619Z
LAST-MODIFIED:20230906T095539Z
UID:1714-1697839200-1697844600@www.graetzelmixer.at
SUMMARY:"Ma Na Sapna" - A Mother's Dream [Grätzel:Kino]
DESCRIPTION:Dokumentarfilm über indische Leihmütter\nAnschließend Publikumsgespräch mit Regisseurin Valerie Blankenbyl (Gudenus)\n\nDer Film „Ma Na Sapna“ – A Mother’s Dream (86′\, CH 2013) begleitet sechs Leihmütter und eine Vermittlerin durch die verschiedenen Phasen der Leihmutterschaft in einer Klinik im Nordwesten Indiens. Er geht den Hoffnungen\, Freuden und Konflikten nach\, die Leihmutterschaft mit sich bringt\, und untersucht das Verhältnis zwischen Leihmüttern\, Auftragseltern\, Ärztinnen und Ärzten. \nFilm in Originalfassung mit englischen Untertiteln \nValerie Blankenbyl (Gudenus) \nist eine österreichische Filmemacherin. Nach einer 2-jährigen Künstler-Residenz an der „Fabrica“ in Italien\, absolvierte sie ein Master Diplom als Filmregisseurin in der Schweiz. Sie drehte in Brasilien\, Russland und Indien. Derzeit lebt und arbeitet sie in Wien.
URL:https://www.graetzelmixer.at/event/ma-na-sapna-a-mothers-dream-graetzelkino/
LOCATION:Grätzelmixer\, Bloch-Bauer-Promenade 28\, Wien\, 1100\, Austria
CATEGORIES:Grätzel:Kino
ORGANIZER;CN="Gr%C3%A4tzelmixer Verein":MAILTO:info@graetzelmixer.at
END:VEVENT
END:VCALENDAR