BEGIN:VCALENDAR
VERSION:2.0
PRODID:-//Grätzelmixer - ECPv6.15.20//NONSGML v1.0//EN
CALSCALE:GREGORIAN
METHOD:PUBLISH
X-WR-CALNAME:Grätzelmixer
X-ORIGINAL-URL:https://www.graetzelmixer.at
X-WR-CALDESC:Veranstaltungen für Grätzelmixer
REFRESH-INTERVAL;VALUE=DURATION:PT1H
X-Robots-Tag:noindex
X-PUBLISHED-TTL:PT1H
BEGIN:VTIMEZONE
TZID:Europe/Vienna
BEGIN:DAYLIGHT
TZOFFSETFROM:+0100
TZOFFSETTO:+0200
TZNAME:CEST
DTSTART:20220327T010000
END:DAYLIGHT
BEGIN:STANDARD
TZOFFSETFROM:+0200
TZOFFSETTO:+0100
TZNAME:CET
DTSTART:20221030T010000
END:STANDARD
BEGIN:DAYLIGHT
TZOFFSETFROM:+0100
TZOFFSETTO:+0200
TZNAME:CEST
DTSTART:20230326T010000
END:DAYLIGHT
BEGIN:STANDARD
TZOFFSETFROM:+0200
TZOFFSETTO:+0100
TZNAME:CET
DTSTART:20231029T010000
END:STANDARD
BEGIN:DAYLIGHT
TZOFFSETFROM:+0100
TZOFFSETTO:+0200
TZNAME:CEST
DTSTART:20240331T010000
END:DAYLIGHT
BEGIN:STANDARD
TZOFFSETFROM:+0200
TZOFFSETTO:+0100
TZNAME:CET
DTSTART:20241027T010000
END:STANDARD
END:VTIMEZONE
BEGIN:VEVENT
DTSTART;TZID=Europe/Vienna:20230226T170000
DTEND;TZID=Europe/Vienna:20230226T190000
DTSTAMP:20260425T175734
CREATED:20230202T062429Z
LAST-MODIFIED:20230207T133507Z
UID:1309-1677430800-1677438000@www.graetzelmixer.at
SUMMARY:Geschichten vom Franz [Grätzel:Kino]
DESCRIPTION:Kinderfilm (Ö/D 2022) und Fragestunde mit Drehbuchautorin Sarah Wassermair \n\nEin Film von Johannes Schmid\nNach den Büchern von Christine Nöstlinger\nmit Jossi Jantschitsch\, Nora Reidinger\, Leo Wacha\, Ursula Strauss\, Simon Schwarz\, u.a.\nSongs: Marco Wanda \n\n\nFür die Kids: Bitte bringt euren eigenen Sitzpolster mit. \nEintritt bei freiwilliger Spende.
URL:https://www.graetzelmixer.at/event/geschichten-vom-franz-graetzelkino/
LOCATION:Grätzelmixer\, Bloch-Bauer-Promenade 28\, Wien\, 1100\, Austria
CATEGORIES:Grätzel:Kino
ORGANIZER;CN="Gr%C3%A4tzelmixer Verein":MAILTO:info@graetzelmixer.at
END:VEVENT
END:VCALENDAR