BEGIN:VCALENDAR
VERSION:2.0
PRODID:-//Grätzelmixer - ECPv6.15.20//NONSGML v1.0//EN
CALSCALE:GREGORIAN
METHOD:PUBLISH
X-ORIGINAL-URL:https://www.graetzelmixer.at
X-WR-CALDESC:Veranstaltungen für Grätzelmixer
REFRESH-INTERVAL;VALUE=DURATION:PT1H
X-Robots-Tag:noindex
X-PUBLISHED-TTL:PT1H
BEGIN:VTIMEZONE
TZID:Europe/Vienna
BEGIN:DAYLIGHT
TZOFFSETFROM:+0100
TZOFFSETTO:+0200
TZNAME:CEST
DTSTART:20210328T010000
END:DAYLIGHT
BEGIN:STANDARD
TZOFFSETFROM:+0200
TZOFFSETTO:+0100
TZNAME:CET
DTSTART:20211031T010000
END:STANDARD
BEGIN:DAYLIGHT
TZOFFSETFROM:+0100
TZOFFSETTO:+0200
TZNAME:CEST
DTSTART:20220327T010000
END:DAYLIGHT
BEGIN:STANDARD
TZOFFSETFROM:+0200
TZOFFSETTO:+0100
TZNAME:CET
DTSTART:20221030T010000
END:STANDARD
BEGIN:DAYLIGHT
TZOFFSETFROM:+0100
TZOFFSETTO:+0200
TZNAME:CEST
DTSTART:20230326T010000
END:DAYLIGHT
BEGIN:STANDARD
TZOFFSETFROM:+0200
TZOFFSETTO:+0100
TZNAME:CET
DTSTART:20231029T010000
END:STANDARD
END:VTIMEZONE
BEGIN:VEVENT
DTSTART;TZID=Europe/Vienna:20221112T150000
DTEND;TZID=Europe/Vienna:20221112T220000
DTSTAMP:20260425T232854
CREATED:20220905T171805Z
LAST-MODIFIED:20221110T101946Z
UID:1169-1668265200-1668290400@www.graetzelmixer.at
SUMMARY:Schach-Fest für alle [Grätzel:Fest]
DESCRIPTION:Jung oder Älter\, Anfänger oder Genie – Einfach kommen\, informieren\, zuschauen\, spielen\nBeim Schachfest sind alle – jung oder älter\, Anfänger oder Genie – herzlich eingeladen\, in die facettenreiche Welt des Schachs einzutauchen. Informiert Euch über Schach in Wien\, spielt Eure ersten Züge\, ein paar gemütliche Partien oder gebt Euch den Stresstest mit nur ein paar Minuten auf der Schachuhr. Einfach ein bisschen Zuschauen\, was beim Schach „Kiebitzen“ heißt\, kann auch spannend und sogar lehrreich sein! Hier kannst Du mehr über Schach erfahren.  \n\n14:00–18:30 Uhr FREIES SCHACH\n14:00–16:00 Uhr Anmeldung für das Turnier\n16:00–18:30 Uhr SCHNELLSCHACHTURNIER in 5 Runden\n8 Minuten pro Person und Partie\nSchiedsrichter: Lothar Handrich\n\n\nFilm ab!\n\n19:00–21:00 Uhr Filmvorführung „Glory to the Queen“\nIm Anschluss Publikumsgespräch mit Regisseurin Tatia Skhirtladze.\nKaffee & Kuchen\, Snacks & Drinks an der Grätzelbar.\n\n\n\nÜber den Film „Glory to the Queen“:\nVier Frauen setzen die Welt Schachmatt\n\n\nEin Film von Tatia Skhirtladze \n\n \nDeutsche Fassung mit den Stimmen von Susi Stach\, Maria Happel\, Maria Hofstätter\, Brigitte Krenn und Julia Reichert\n \nNona Gaprindaschwili\, Maia Tschiburdanidze\, Nana Alexandria und Nana Iosseliani: Vier Namen\, die die Augen so gut wie aller Schachspieler*innen aufleuchten lassen. Als Spitzenspielerinnen dominierten sie die Schachszene von Beginn der 1960er bis zum Zerfall der Sowjetunion Anfang der 1990er Jahre und holten den Weltmeistertitel dreißig Mal hintereinander nach Georgien. Nona Gaprindaschwili gelang\, was noch keine Frau vor ihr erreicht hatte: Sie wurde Großmeister: Ein Titel\, für den es bezeichnenderweise bis heute keine weibliche Form gibt. 15 Jahre lang blieb sie Weltmeisterin\, dann geschah das Unerwartete: Die erst 17-jährige Maia Tschiburdanidze stieß sie vom Thron. Nana Alexandria und Nana Iosseliani waren ihnen stets auf den Fersen und zu viert waren sie praktisch unschlagbar. \nIhre immensen Erfolge in der bis dahin männlich dominierten Schachwelt\, führten dazu\, dass zahllose Mädchen nach ihnen benannt wurden. \nDie Erinnerung an ihre Errungenschaften lebt so auch in den Frauen\, die ihre Namen tragen\, weiter.\nGLORY TO THE QUEEN setzt ihnen\, mit einem Film über Sieg und Niederlage am Schachbrett und im Leben\, das verdiente Denkmal.\n \nMit Maria Happel als Nana Alexandria\, Maria Hofstätter als Maia Tschiburdanidze\, Brigitte Krenn als Nana Iosseliani und Susi Stach als Nona Gapridaschwili tragen vier hochkarätige österreichische Schauspielerinnen in der deutschen Version zur Verbreitung dieser unglaublichen hierzulande leider viel zu wenig bekannten Erfolgsgeschichte bei.\n \nÜber die Regisseurin:\n\n\nGeboren 1976 in Tiflis\, Georgien\, lebt die Künstlerin Tatia (Tamar) Skhirtladze als Filmarbeiterin und Künstlerin in Wien. Studium der Kunstpädagogik in Georgien und Österreich\, Studium der Bildenden Kunst in den Niederlanden. \nSeit 2011 unterrichtet sie Video an der Universität für Angewandte Kunst in Wien. \nIhre künstlerische Arbeit oszilliert zwischen Bildender Kunst und Film\, ihr Interessenschwerpunkt liegt auf ortsgebundenen sowie langfristigen Mix-Media-Konzepten. Ihre Werke wurden in nationalen und internationalen Ausstellungen gezeigt (u.a. Prague Quadrennial\, T.I.C.A. AIR-LAB Tirana\, Kunstraum Niederösterreich Vienna\, Art Caucasus Tbilisi). \nTatia Skhirtladze war auch als Kamerafrau und Editorin für Dokumentarfilme tätig\, sie entwickelt Film Bildungsangebote und leitet Workshops zu filmkünstlerischen Praktiken. \n\n\nSie experimentiert erfolgreich mit unterschiedlichen filmischen Methoden und deren Vermittlung – unter anderem entwickelte sie in 2011 mit Mobiltelefonen ein Modul zu Art- sowie Film Education“\, das EYE Filmmuseum in Amsterdam angekauft hat.\nIhr erster Dokumentarfilm Glory to the Queen wurde auf zahlreichen internationalen Filmfestivals gezeigt und war 2021 einer der drei meistgesehenen Dokus in Österreich. Er gewann Women in Film Best Pitch Award 2018 von EWA Network/Film Center Serbia und Fast Forward Film Festival Belgrade\, erhielt Romy Nominierung für beste Doku sowie Golden Prometheus Award  auf der Tbilisi International Film Festival 2021\, Audience Award  bei Slobodan Zona Festival Serbien 2020\, sowie  Honorable Mention bei Documenta in Mexico 2020 und SEEFest\, US 2021. \n\n\n\n\n\n\n\nIn Zusammenarbeit mit Tatia Skhirtladze (Regisseurin von „Glory to the Queen„)\, filmdelights und Chess Unlimited. \n\n\n 
URL:https://www.graetzelmixer.at/event/schach-fest-graetzelfest/
LOCATION:Grätzelmixer\, Bloch-Bauer-Promenade 28\, Wien\, 1100\, Austria
CATEGORIES:Grätzel:Fest,Grätzel:Kino
END:VEVENT
BEGIN:VEVENT
DTSTART;TZID=Europe/Vienna:20221112T200000
DTEND;TZID=Europe/Vienna:20221112T220000
DTSTAMP:20260425T232854
CREATED:20220905T171616Z
LAST-MODIFIED:20221110T114634Z
UID:1167-1668283200-1668290400@www.graetzelmixer.at
SUMMARY:Filmabend "Glory to the Queen" [Grätzel:Kino]
DESCRIPTION:„Glory to the Queen“\nVier Frauen setzen die Welt Schachmatt\nIm Anschluss Publikumsgespräch mit Regisseurin Tatia Skhirtladze. \n\nÜber den Film „Glory to the Queen“:\nEin Film von Tatia Skhirtladze \n\n \nDeutsche Fassung mit den Stimmen von Susi Stach\, Maria Happel\, Maria Hofstätter\, Brigitte Krenn und Julia Reichert\n \nNona Gaprindaschwili\, Maia Tschiburdanidze\, Nana Alexandria und Nana Iosseliani: Vier Namen\, die die Augen so gut wie aller Schachspieler*innen aufleuchten lassen. Als Spitzenspielerinnen dominierten sie die Schachszene von Beginn der 1960er bis zum Zerfall der Sowjetunion Anfang der 1990er Jahre und holten den Weltmeistertitel dreißig Mal hintereinander nach Georgien. Nona Gaprindaschwili gelang\, was noch keine Frau vor ihr erreicht hatte: Sie wurde Großmeister: Ein Titel\, für den es bezeichnenderweise bis heute keine weibliche Form gibt. 15 Jahre lang blieb sie Weltmeisterin\, dann geschah das Unerwartete: Die erst 17-jährige Maia Tschiburdanidze stieß sie vom Thron. Nana Alexandria und Nana Iosseliani waren ihnen stets auf den Fersen und zu viert waren sie praktisch unschlagbar. \nIhre immensen Erfolge in der bis dahin männlich dominierten Schachwelt\, führten dazu\, dass zahllose Mädchen nach ihnen benannt wurden. \nDie Erinnerung an ihre Errungenschaften lebt so auch in den Frauen\, die ihre Namen tragen\, weiter.\nGLORY TO THE QUEEN setzt ihnen\, mit einem Film über Sieg und Niederlage am Schachbrett und im Leben\, das verdiente Denkmal.\n \nMit Maria Happel als Nana Alexandria\, Maria Hofstätter als Maia Tschiburdanidze\, Brigitte Krenn als Nana Iosseliani und Susi Stach als Nona Gapridaschwili tragen vier hochkarätige österreichische Schauspielerinnen in der deutschen Version zur Verbreitung dieser unglaublichen hierzulande leider viel zu wenig bekannten Erfolgsgeschichte bei.\n\n \nHier geht es zum offiziellen Trailer.\n \n\nÜber die Regisseurin:\n\n\nGeboren 1976 in Tiflis\, Georgien\, lebt die Künstlerin Tatia (Tamar) Skhirtladze als Filmarbeiterin und Künstlerin in Wien. Studium der Kunstpädagogik in Georgien und Österreich\, Studium der Bildenden Kunst in den Niederlanden. \nSeit 2011 unterrichtet sie Video an der Universität für Angewandte Kunst in Wien. \nIhre künstlerische Arbeit oszilliert zwischen Bildender Kunst und Film\, ihr Interessenschwerpunkt liegt auf ortsgebundenen sowie langfristigen Mix-Media-Konzepten. Ihre Werke wurden in nationalen und internationalen Ausstellungen gezeigt (u.a. Prague Quadrennial\, T.I.C.A. AIR-LAB Tirana\, Kunstraum Niederösterreich Vienna\, Art Caucasus Tbilisi). \nTatia Skhirtladze war auch als Kamerafrau und Editorin für Dokumentarfilme tätig\, sie entwickelt Film Bildungsangebote und leitet Workshops zu filmkünstlerischen Praktiken. \n\n\nSie experimentiert erfolgreich mit unterschiedlichen filmischen Methoden und deren Vermittlung – unter anderem entwickelte sie in 2011 mit Mobiltelefonen ein Modul zu Art- sowie Film Education“\, das das EYE Filmmuseum in Amsterdam angekauft hat.\nIhr erster Dokumentarfilm Glory to the Queen wurde auf zahlreichen internationalen Filmfestivals gezeigt und war 2021 einer der drei meistgesehenen Dokus in Österreich. Er gewann Women in Film Best Pitch Award 2018 von EWA Network/Film Center Serbia und Fast Forward Film Festival Belgrade\, erhielt Romy Nominierung für beste Doku sowie Golden Prometheus Award  auf der Tbilisi International Film Festival 2021\, Audience Award  bei Slobodan Zona Festival Serbien 2020\, sowie  Honorable Mention bei Documenta in Mexico 2020 und SEEFest\, US 2021. \n\n\n\n\n\n\n\nIn Zusammenarbeit mit Tatia Skhirtladze (Regisseurin von „Glory to the Queen„)\, filmdelights und Chess Unlimited. \n\n\n 
URL:https://www.graetzelmixer.at/event/filmabend-glory-to-the-queen-graetzelkino/
LOCATION:Grätzelmixer\, Bloch-Bauer-Promenade 28\, Wien\, 1100\, Austria
CATEGORIES:Grätzel:Kino
ORGANIZER;CN="Gr%C3%A4tzelmixer Verein":MAILTO:info@graetzelmixer.at
END:VEVENT
END:VCALENDAR