BEGIN:VCALENDAR
VERSION:2.0
PRODID:-//Grätzelmixer - ECPv6.15.20//NONSGML v1.0//EN
CALSCALE:GREGORIAN
METHOD:PUBLISH
X-ORIGINAL-URL:https://www.graetzelmixer.at
X-WR-CALDESC:Veranstaltungen für Grätzelmixer
REFRESH-INTERVAL;VALUE=DURATION:PT1H
X-Robots-Tag:noindex
X-PUBLISHED-TTL:PT1H
BEGIN:VTIMEZONE
TZID:Europe/Vienna
BEGIN:DAYLIGHT
TZOFFSETFROM:+0100
TZOFFSETTO:+0200
TZNAME:CEST
DTSTART:20230326T010000
END:DAYLIGHT
BEGIN:STANDARD
TZOFFSETFROM:+0200
TZOFFSETTO:+0100
TZNAME:CET
DTSTART:20231029T010000
END:STANDARD
BEGIN:DAYLIGHT
TZOFFSETFROM:+0100
TZOFFSETTO:+0200
TZNAME:CEST
DTSTART:20240331T010000
END:DAYLIGHT
BEGIN:STANDARD
TZOFFSETFROM:+0200
TZOFFSETTO:+0100
TZNAME:CET
DTSTART:20241027T010000
END:STANDARD
BEGIN:DAYLIGHT
TZOFFSETFROM:+0100
TZOFFSETTO:+0200
TZNAME:CEST
DTSTART:20250330T010000
END:DAYLIGHT
BEGIN:STANDARD
TZOFFSETFROM:+0200
TZOFFSETTO:+0100
TZNAME:CET
DTSTART:20251026T010000
END:STANDARD
END:VTIMEZONE
BEGIN:VEVENT
DTSTART;TZID=Europe/Vienna:20241107T180000
DTEND;TZID=Europe/Vienna:20241107T193000
DTSTAMP:20260424T063859
CREATED:20241013T183112Z
LAST-MODIFIED:20241103T125701Z
UID:2250-1731002400-1731007800@www.graetzelmixer.at
SUMMARY:Gemeinsam Urban Wohnen - Eine Option für Frauen über 50? [Grätzel:Frauen]
DESCRIPTION:Zur Geschichte und den Erfahrungen von  gemeinschaftlichen Wohnprojekten. \nDerzeit gibt es die Kolokation-Wohnform für ältere Menschen im Sonnwendviertel und in der Seestadt. \nWie geht Menschen über 50 dabei? Wie geht es Frauen über 50 in Wohnprojekten? \nFreya Brandl\, Obfrau des Stammvereins „Kolokation“ berichtet von ihrer 10jährigen Arbeit für\, mit und in Wohnprojekten. \nVeronika Holzknecht stellt das neu entstehende Projekt „Ildefonso“ –  Kolok-Kur in Oberlaa vor. \n 
URL:https://www.graetzelmixer.at/event/gemeinsam-urban-wohnen-eine-option-fuer-frauen-ueber-50-graetzelfrauen/
LOCATION:Grätzelmixer\, Bloch-Bauer-Promenade 28\, Wien\, 1100\, Austria
CATEGORIES:Grätzel:Frauen
END:VEVENT
END:VCALENDAR