BEGIN:VCALENDAR
VERSION:2.0
PRODID:-//Grätzelmixer - ECPv6.15.20//NONSGML v1.0//EN
CALSCALE:GREGORIAN
METHOD:PUBLISH
X-ORIGINAL-URL:https://www.graetzelmixer.at
X-WR-CALDESC:Veranstaltungen für Grätzelmixer
REFRESH-INTERVAL;VALUE=DURATION:PT1H
X-Robots-Tag:noindex
X-PUBLISHED-TTL:PT1H
BEGIN:VTIMEZONE
TZID:Europe/Vienna
BEGIN:DAYLIGHT
TZOFFSETFROM:+0100
TZOFFSETTO:+0200
TZNAME:CEST
DTSTART:20240331T010000
END:DAYLIGHT
BEGIN:STANDARD
TZOFFSETFROM:+0200
TZOFFSETTO:+0100
TZNAME:CET
DTSTART:20241027T010000
END:STANDARD
BEGIN:DAYLIGHT
TZOFFSETFROM:+0100
TZOFFSETTO:+0200
TZNAME:CEST
DTSTART:20250330T010000
END:DAYLIGHT
BEGIN:STANDARD
TZOFFSETFROM:+0200
TZOFFSETTO:+0100
TZNAME:CET
DTSTART:20251026T010000
END:STANDARD
BEGIN:DAYLIGHT
TZOFFSETFROM:+0100
TZOFFSETTO:+0200
TZNAME:CEST
DTSTART:20260329T010000
END:DAYLIGHT
BEGIN:STANDARD
TZOFFSETFROM:+0200
TZOFFSETTO:+0100
TZNAME:CET
DTSTART:20261025T010000
END:STANDARD
END:VTIMEZONE
BEGIN:VEVENT
DTSTART;TZID=Europe/Vienna:20250123T200000
DTEND;TZID=Europe/Vienna:20250123T213000
DTSTAMP:20260425T154143
CREATED:20241127T142533Z
LAST-MODIFIED:20250430T180512Z
UID:2345-1737662400-1737667800@www.graetzelmixer.at
SUMMARY:Der historische Salon 1848: Die besiegte Revolution [Grätzel:Fokus]
DESCRIPTION:Wolfgang Maderthaner im Gespräch mit Peter Lachnit\n \nIm „historischen Salon“ werden einschneidende historische Ereignisse besprochen: anregend\, kenntnisreich\, locker.\nIn Ausgabe 2 des „historischen Salons“ geht es um die Revolution\, die ein halbes Jahr lang Wien beherrscht und dann Ende Oktober 1848 blutig niedergeschlagen wird. Es war eine richtige Revolution mit Barrikaden\, angezündeten Fabriken\, Häuser- und Straßenkampf – und das in Österreich! Die Gesellen wollen nicht mehr geduzt werden\, die „Hökerinnen“ verprügeln den  Naschmarktkönig\, der Kriegsminister wird gelyncht und der Kaiser muss zwei Mal aus Wien fliehen. Woran ist die Revolution schlussendlich gescheitert: an der Zerstrittenheit von Bürgern und Arbeitern\, an der Gewalt des habsburgischen Militärs? Und wer sind die Erben der Revolution: die Sozialdemokraten\, die 1918 als die Vollendung von 1848 ansehen? Oder\, wie der FPÖ-Nationalratspräsident Walter Rosenkranz meint\, die nationalen Burschenschafter? \nPeter Lachnit ist studierter Historiker und hat bis 2017 beim Radioprogramm Ö1 die Redaktion „Diagonal“ geleitet. \nWolfgang Maderthaner hat den „Verein für Geschichte der Arbeiterbewegung“ (VGA) geleitet und war von 2012 bis 2019 Generaldirektor des Österreichischen Staatsarchivs. \n\nEintritt: Freiwillige Spenden
URL:https://www.graetzelmixer.at/event/der-historische-salon-1848-die-besiegte-revolution-graetzelfokus/
LOCATION:Grätzelmixer\, Bloch-Bauer-Promenade 28\, Wien\, 1100\, Austria
CATEGORIES:Grätzel:Fokus,Historischer Salon
END:VEVENT
END:VCALENDAR